BEGIN:VCALENDAR
VERSION:2.0
PRODID:-//Kenosha Public Museum - ECPv6.15.20//NONSGML v1.0//EN
CALSCALE:GREGORIAN
METHOD:PUBLISH
X-WR-CALNAME:Kenosha Public Museum
X-ORIGINAL-URL:https://museums.kenosha.org
X-WR-CALDESC:Events for Kenosha Public Museum
REFRESH-INTERVAL;VALUE=DURATION:PT1H
X-Robots-Tag:noindex
X-PUBLISHED-TTL:PT1H
BEGIN:VTIMEZONE
TZID:America/Chicago
BEGIN:DAYLIGHT
TZOFFSETFROM:-0600
TZOFFSETTO:-0500
TZNAME:CDT
DTSTART:20240310T080000
END:DAYLIGHT
BEGIN:STANDARD
TZOFFSETFROM:-0500
TZOFFSETTO:-0600
TZNAME:CST
DTSTART:20241103T070000
END:STANDARD
BEGIN:DAYLIGHT
TZOFFSETFROM:-0600
TZOFFSETTO:-0500
TZNAME:CDT
DTSTART:20250309T080000
END:DAYLIGHT
BEGIN:STANDARD
TZOFFSETFROM:-0500
TZOFFSETTO:-0600
TZNAME:CST
DTSTART:20251102T070000
END:STANDARD
BEGIN:DAYLIGHT
TZOFFSETFROM:-0600
TZOFFSETTO:-0500
TZNAME:CDT
DTSTART:20260308T080000
END:DAYLIGHT
BEGIN:STANDARD
TZOFFSETFROM:-0500
TZOFFSETTO:-0600
TZNAME:CST
DTSTART:20261101T070000
END:STANDARD
END:VTIMEZONE
BEGIN:VEVENT
DTSTART;TZID=America/Chicago:20250920T110000
DTEND;TZID=America/Chicago:20250920T130000
DTSTAMP:20260424T115952
CREATED:20250426T134027Z
LAST-MODIFIED:20250426T134027Z
UID:10002123-1758366000-1758373200@museums.kenosha.org
SUMMARY:Art Making Family Day
DESCRIPTION:Saturday\, September 20  |  11am – 1pm  |  Free\, registration recommended  |  Register Here \nVisit the combined exhibits of Women and Water and Ancestral Women and learn about the stories of Native heroes\, caretakers\, and artists through looking closely with a scavenger hunt and making artwork with natural materials\, such as using plant based pigments in a watercolor painting\, corn kernels to design an abstract work\, and get inspired by the Anishinaabe woodlands style of flowers and plants to create your own artwork.
URL:https://museums.kenosha.org/events/art-making-family-day-2
LOCATION:Kenosha Public Museum\, 5500 1st Ave\, Kenosha\, WI\, 53140\, United States
CATEGORIES:Family,Kenosha Public Museum
ATTACH;FMTTYPE=image/png:https://museums.kenosha.org/wp-content/uploads/2025/04/FBE_KPM_ArtDay.png
END:VEVENT
BEGIN:VEVENT
DTSTART;TZID=America/Chicago:20250920T123000
DTEND;TZID=America/Chicago:20250920T150000
DTSTAMP:20260424T115952
CREATED:20250910T185657Z
LAST-MODIFIED:20250910T185657Z
UID:10002248-1758371400-1758380400@museums.kenosha.org
SUMMARY:Kenosha Public Library Dino Day
DESCRIPTION:Saturday\, September 20  |  12:30pm – 3:00pm  |  Free \nJoin the Kenosha Public Library at the Dinosaur Discovery Museum for drop-in fun and a storytime celebrating all things prehistoric. KPL will be on-site with new limited edition dinosaur library cards. Get yours before they go extinct!\n\nAlready have a library card but want a really cool dinosaur one instead? Swap it for free at this event only!
URL:https://museums.kenosha.org/events/kenosha-public-library-dino-day
LOCATION:Dinosaur Discovery Museum\, 5608 10th Ave\, Kenosha\, WI\, 53140\, United States
CATEGORIES:Dinosaur Discovery Museum,Family
ATTACH;FMTTYPE=image/png:https://museums.kenosha.org/wp-content/uploads/2025/09/KPLDinoDay-1.png
END:VEVENT
BEGIN:VEVENT
DTSTART;TZID=America/Chicago:20250920T130000
DTEND;TZID=America/Chicago:20250920T140000
DTSTAMP:20260424T115952
CREATED:20250703T132644Z
LAST-MODIFIED:20250703T132644Z
UID:10002157-1758373200-1758376800@museums.kenosha.org
SUMMARY:The Pullman National Park Story
DESCRIPTION:Saturday\, September 20  |  1pm – 2pm  |  Presented by: Park Ranger Hank Bell  |  Free\, registration required  |  Register Here \nJoin Park Ranger Hank Bell for a presentation on Pullman National Historical Park – the first National Park Service site designated in the Chicagoland area. \nThe park tells the story of the Pullman Company and its pivotal role in revolutionizing rail travel in the 19th century. It also preserves one of the first planned industrial communities in the United States\, offering insight into early urban planning and design. Pullman holds a unique place in American labor history\, serving as the backdrop for the historic Pullman Strike and Boycott of 1894. The park also honors the legacy of the Pullman Porters\, an almost exclusively African American workforce whose efforts helped lay the foundation for the Black middle class in America. \nRanger Bell joined the team at Pullman National Historical Park in August 2024. Before beginning his career with the National Park Service\, he spent over twelve years working as an attorney and compliance officer in downtown Chicago.
URL:https://museums.kenosha.org/events/the-pullman-national-park-story
LOCATION:Civil War Museum\, 5400 1st Ave\, Kenosha\, WI\, 53140\, United States
CATEGORIES:Adult,Civil War Museum
ATTACH;FMTTYPE=image/png:https://museums.kenosha.org/wp-content/uploads/2025/07/CWM_Pullman_640x360px.png
END:VEVENT
END:VCALENDAR