BEGIN:VCALENDAR
VERSION:2.0
PRODID:-//Kenosha Public Museum - ECPv6.15.20//NONSGML v1.0//EN
CALSCALE:GREGORIAN
METHOD:PUBLISH
X-WR-CALNAME:Kenosha Public Museum
X-ORIGINAL-URL:https://museums.kenosha.org
X-WR-CALDESC:Events for Kenosha Public Museum
REFRESH-INTERVAL;VALUE=DURATION:PT1H
X-Robots-Tag:noindex
X-PUBLISHED-TTL:PT1H
BEGIN:VTIMEZONE
TZID:America/Chicago
BEGIN:DAYLIGHT
TZOFFSETFROM:-0600
TZOFFSETTO:-0500
TZNAME:CDT
DTSTART:20250309T080000
END:DAYLIGHT
BEGIN:STANDARD
TZOFFSETFROM:-0500
TZOFFSETTO:-0600
TZNAME:CST
DTSTART:20251102T070000
END:STANDARD
BEGIN:DAYLIGHT
TZOFFSETFROM:-0600
TZOFFSETTO:-0500
TZNAME:CDT
DTSTART:20260308T080000
END:DAYLIGHT
BEGIN:STANDARD
TZOFFSETFROM:-0500
TZOFFSETTO:-0600
TZNAME:CST
DTSTART:20261101T070000
END:STANDARD
BEGIN:DAYLIGHT
TZOFFSETFROM:-0600
TZOFFSETTO:-0500
TZNAME:CDT
DTSTART:20270314T080000
END:DAYLIGHT
BEGIN:STANDARD
TZOFFSETFROM:-0500
TZOFFSETTO:-0600
TZNAME:CST
DTSTART:20271107T070000
END:STANDARD
END:VTIMEZONE
BEGIN:VEVENT
DTSTART;TZID=America/Chicago:20260308T123000
DTEND;TZID=America/Chicago:20260308T160000
DTSTAMP:20260424T223154
CREATED:20251216T171959Z
LAST-MODIFIED:20251216T171959Z
UID:10002277-1772973000-1772985600@museums.kenosha.org
SUMMARY:History in Bloom
DESCRIPTION:Sunday\, March 8  |  12:30pm – 4:00pm  |  Performance by: Leslie Goddard\, PhD  |  Free\, registration required  |  Register Here \nCelebrate the remarkable history of women and the legacies they pave today at this free\, community event at the Kenosha Civil War Museum! Immerse yourself in the Victorian Language of Flowers as you build your own mini-bouquet (courtesy of Howland Flowers) to take home and learn the Language of the Fan in the Resource Center. Peruse a mini vendor market highlighting local\, women-owned businesses and treat yourself to an antipasto grazing station (courtesy of Bell’Assai Bistro). \nAt 2:00pm\, attendees can attend a first-person performance of Abigail Adams by actress and historian\, Leslie Goddard. \nThis event is family-friendly and is open to all. Crafts\, flower bouquets\, and snacks will be as supplies last. \nThank you to the Kenosha Community Foundation for helping this event come to life\, and to our partners: Howland Flowers and Bell’Assai Bistro.
URL:https://museums.kenosha.org/events/history-in-bloom
LOCATION:Civil War Museum\, 5400 1st Ave\, Kenosha\, WI\, 53140\, United States
CATEGORIES:Civil War Museum,Family
ATTACH;FMTTYPE=image/png:https://museums.kenosha.org/wp-content/uploads/2025/12/HistoryInBloom_640x360px-1.png
END:VEVENT
END:VCALENDAR