BEGIN:VCALENDAR
VERSION:2.0
PRODID:-//Kenosha Public Museum - ECPv6.15.20//NONSGML v1.0//EN
CALSCALE:GREGORIAN
METHOD:PUBLISH
X-ORIGINAL-URL:https://museums.kenosha.org
X-WR-CALDESC:Events for Kenosha Public Museum
REFRESH-INTERVAL;VALUE=DURATION:PT1H
X-Robots-Tag:noindex
X-PUBLISHED-TTL:PT1H
BEGIN:VTIMEZONE
TZID:America/Chicago
BEGIN:DAYLIGHT
TZOFFSETFROM:-0600
TZOFFSETTO:-0500
TZNAME:CDT
DTSTART:20220313T080000
END:DAYLIGHT
BEGIN:STANDARD
TZOFFSETFROM:-0500
TZOFFSETTO:-0600
TZNAME:CST
DTSTART:20221106T070000
END:STANDARD
BEGIN:DAYLIGHT
TZOFFSETFROM:-0600
TZOFFSETTO:-0500
TZNAME:CDT
DTSTART:20230312T080000
END:DAYLIGHT
BEGIN:STANDARD
TZOFFSETFROM:-0500
TZOFFSETTO:-0600
TZNAME:CST
DTSTART:20231105T070000
END:STANDARD
BEGIN:DAYLIGHT
TZOFFSETFROM:-0600
TZOFFSETTO:-0500
TZNAME:CDT
DTSTART:20240310T080000
END:DAYLIGHT
BEGIN:STANDARD
TZOFFSETFROM:-0500
TZOFFSETTO:-0600
TZNAME:CST
DTSTART:20241103T070000
END:STANDARD
END:VTIMEZONE
BEGIN:VEVENT
DTSTART;TZID=America/Chicago:20230507T110000
DTEND;TZID=America/Chicago:20230507T120000
DTSTAMP:20260422T064431
CREATED:20230209T183537Z
LAST-MODIFIED:20230209T183537Z
UID:10000412-1683457200-1683460800@museums.kenosha.org
SUMMARY:Sensory Friendly Day
DESCRIPTION:Sensory Friendly Days give visitors of all ages with complex developmental disabilities\, sensory sensitivities\, or on the autism spectrum a safe\, comfortable environment to explore the museum exhibits during special hours before the museum opens to the general public. Where possible\, our lights will be dimmed and the sound turned off. Signage will be posted for those areas in which we are unable to turn off the sound or there may be other sensory triggers. Trained staff will be available to help visitors navigate the museum and offer supportive resources (noise-cancelling headphones\, fidgets\, weighted blankets\, quiet spaces)\, as well as opportunities for sensory engagement during your exploration of the museum.
URL:https://museums.kenosha.org/events/sensory-friendly-day-4
LOCATION:Civil War Museum\, 5400 1st Ave\, Kenosha\, WI\, 53140\, United States
CATEGORIES:Civil War Museum,Family,Youth
ATTACH;FMTTYPE=image/png:https://museums.kenosha.org/wp-content/uploads/2023/02/SensoryDays_640×360.png
END:VEVENT
BEGIN:VEVENT
DTSTART;TZID=America/Chicago:20230510T093000
DTEND;TZID=America/Chicago:20230510T100000
DTSTAMP:20260422T064431
CREATED:20230313T155923Z
LAST-MODIFIED:20230426T132135Z
UID:10000318-1683711000-1683712800@museums.kenosha.org
SUMMARY:Museum Munchkins
DESCRIPTION:Get your preschoolers excited about science and the world around them. Each week they will learn about a different museum collection animal through songs\, stories and activities. \nAPRIL: 26 – Racoons session canceled  \nMAY: 3 – Butterflies; 10 – Ocelots; 17 – Wombats; 24 – Platypus \nJUNE: 7 – Red Pandas; 14 – Saigas \n*SUMMER BREAK UNTIL AUGUST* \n 
URL:https://museums.kenosha.org/events/museum-munchkins-2-2/2023-05-10
LOCATION:Kenosha Public Museum\, 5500 1st Ave\, Kenosha\, WI\, 53140\, United States
CATEGORIES:Family,Kenosha Public Museum,Youth
ATTACH;FMTTYPE=image/png:https://museums.kenosha.org/wp-content/uploads/2023/02/KPM_Munchkins_640x360.png
END:VEVENT
BEGIN:VEVENT
DTSTART;TZID=America/Chicago:20230512T140000
DTEND;TZID=America/Chicago:20230512T163000
DTSTAMP:20260422T064431
CREATED:20230209T201256Z
LAST-MODIFIED:20230209T201305Z
UID:10000415-1683900000-1683909000@museums.kenosha.org
SUMMARY:Artsy Afternoon: Weaving
DESCRIPTION:Explore the amazing world of art through the eyes of artists and see how their artwork can inspire your own. Try new techniques and get your creativity flowing. All materials are included in this free program. \n2pm – 3pm (ages 5-6)  Register Here  |  3:30pm – 4:30pm (ages 7-10) Register Here
URL:https://museums.kenosha.org/events/artsy-afternoon-weaving
LOCATION:Kenosha Public Museum\, 5500 1st Ave\, Kenosha\, WI\, 53140\, United States
CATEGORIES:Family,Kenosha Public Museum,Youth
ATTACH;FMTTYPE=image/png:https://museums.kenosha.org/wp-content/uploads/2023/02/KPM_ArtsyAfternoon_640x360.png
END:VEVENT
BEGIN:VEVENT
DTSTART;TZID=America/Chicago:20230513T130000
DTEND;TZID=America/Chicago:20230513T150000
DTSTAMP:20260422T064431
CREATED:20230214T193613Z
LAST-MODIFIED:20230214T193613Z
UID:10000447-1683982800-1683990000@museums.kenosha.org
SUMMARY:Resource Center Family Activity Day: Plant a Spring Flower
DESCRIPTION:Participants will decorate an egg carton planter and then choose a seed from a few fragrant varieties\, then plant your seed and watch it grow.
URL:https://museums.kenosha.org/events/resource-center-family-activity-day-plant-a-spring-flower
LOCATION:Civil War Museum\, 5400 1st Ave\, Kenosha\, WI\, 53140\, United States
CATEGORIES:Civil War Museum,Family,Youth
ATTACH;FMTTYPE=image/png:https://museums.kenosha.org/wp-content/uploads/2023/02/CWM_RC_ActivityDays.png
END:VEVENT
END:VCALENDAR