BEGIN:VCALENDAR
VERSION:2.0
PRODID:-//Kenosha Public Museum - ECPv6.15.20//NONSGML v1.0//EN
CALSCALE:GREGORIAN
METHOD:PUBLISH
X-WR-CALNAME:Kenosha Public Museum
X-ORIGINAL-URL:https://museums.kenosha.org
X-WR-CALDESC:Events for Kenosha Public Museum
REFRESH-INTERVAL;VALUE=DURATION:PT1H
X-Robots-Tag:noindex
X-PUBLISHED-TTL:PT1H
BEGIN:VTIMEZONE
TZID:America/Chicago
BEGIN:DAYLIGHT
TZOFFSETFROM:-0600
TZOFFSETTO:-0500
TZNAME:CDT
DTSTART:20250309T080000
END:DAYLIGHT
BEGIN:STANDARD
TZOFFSETFROM:-0500
TZOFFSETTO:-0600
TZNAME:CST
DTSTART:20251102T070000
END:STANDARD
BEGIN:DAYLIGHT
TZOFFSETFROM:-0600
TZOFFSETTO:-0500
TZNAME:CDT
DTSTART:20260308T080000
END:DAYLIGHT
BEGIN:STANDARD
TZOFFSETFROM:-0500
TZOFFSETTO:-0600
TZNAME:CST
DTSTART:20261101T070000
END:STANDARD
BEGIN:DAYLIGHT
TZOFFSETFROM:-0600
TZOFFSETTO:-0500
TZNAME:CDT
DTSTART:20270314T080000
END:DAYLIGHT
BEGIN:STANDARD
TZOFFSETFROM:-0500
TZOFFSETTO:-0600
TZNAME:CST
DTSTART:20271107T070000
END:STANDARD
END:VTIMEZONE
BEGIN:VEVENT
DTSTART;TZID=America/Chicago:20260624T100000
DTEND;TZID=America/Chicago:20260624T120000
DTSTAMP:20260424T222722
CREATED:20260123T201851Z
LAST-MODIFIED:20260123T201851Z
UID:10002301-1782295200-1782302400@museums.kenosha.org
SUMMARY:Summer Camp: Studio Art
DESCRIPTION:Tuesday\, June 23 – Thursday\, June 25  |  10am – 12pm  |  $60 ($75 non-members)   \nLet your little artist’s imagination run wild\, every day of camp is a new opportunity to explore\, create\, and express themselves through the magic of art. From watercolor painting\, shaping clay and recycled materials to uniquely carved prints\, your child will explore a variety of fun mediums to bring their visions to life. \nAges 5-6  |  Register Here \nAges 7-10  |  Register Here
URL:https://museums.kenosha.org/events/summer-camp-studio-art-2/2026-06-24
LOCATION:Kenosha Public Museum\, 5500 1st Ave\, Kenosha\, WI\, 53140\, United States
CATEGORIES:Kenosha Public Museum,Youth
ATTACH;FMTTYPE=image/png:https://museums.kenosha.org/wp-content/uploads/2023/12/Camp_Art_640x360.png
END:VEVENT
BEGIN:VEVENT
DTSTART;TZID=America/Chicago:20260625T100000
DTEND;TZID=America/Chicago:20260625T120000
DTSTAMP:20260424T222722
CREATED:20260123T201851Z
LAST-MODIFIED:20260123T201851Z
UID:10002302-1782381600-1782388800@museums.kenosha.org
SUMMARY:Summer Camp: Studio Art
DESCRIPTION:Tuesday\, June 23 – Thursday\, June 25  |  10am – 12pm  |  $60 ($75 non-members)   \nLet your little artist’s imagination run wild\, every day of camp is a new opportunity to explore\, create\, and express themselves through the magic of art. From watercolor painting\, shaping clay and recycled materials to uniquely carved prints\, your child will explore a variety of fun mediums to bring their visions to life. \nAges 5-6  |  Register Here \nAges 7-10  |  Register Here
URL:https://museums.kenosha.org/events/summer-camp-studio-art-2/2026-06-25
LOCATION:Kenosha Public Museum\, 5500 1st Ave\, Kenosha\, WI\, 53140\, United States
CATEGORIES:Kenosha Public Museum,Youth
ATTACH;FMTTYPE=image/png:https://museums.kenosha.org/wp-content/uploads/2023/12/Camp_Art_640x360.png
END:VEVENT
BEGIN:VEVENT
DTSTART;TZID=America/Chicago:20260625T120000
DTEND;TZID=America/Chicago:20260625T130000
DTSTAMP:20260424T222722
CREATED:20260107T234905Z
LAST-MODIFIED:20260107T234905Z
UID:10002292-1782388800-1782392400@museums.kenosha.org
SUMMARY:Museum Book Club: My Dear Hamilton by Laura Kaye and Stephanie Day
DESCRIPTION:From the New York Times bestselling authors of America’s First Daughter comes the epic story of Eliza Schuyler Hamilton–a revolutionary woman who\, like her new nation\, struggled to define herself in the wake of war\, betrayal\, and tragedy. Haunting\, moving\, and beautifully written\, Dray and Kamoie used thousands of letters and original sources to tell Eliza’s story as it’s never been told before–not just as the wronged wife at the center of a political sex scandal–but also as a founding mother who shaped an American legacy in her own right. \nThursday\, June 25  |  12pm – 1pm  |  Discussion led by: Emily Mentzel  |  Free\, registration appreciated  |  Register Here
URL:https://museums.kenosha.org/events/museum-book-club-my-dear-hamilton-by-laura-kaye-and-stephanie-day
LOCATION:Civil War Museum\, 5400 1st Ave\, Kenosha\, WI\, 53140\, United States
CATEGORIES:Adult,Civil War Museum
ATTACH;FMTTYPE=image/png:https://museums.kenosha.org/wp-content/uploads/2025/12/MuseumBookClub_640x360.png
END:VEVENT
BEGIN:VEVENT
DTSTART;TZID=America/Chicago:20260626T140000
DTEND;TZID=America/Chicago:20260626T153000
DTSTAMP:20260424T222722
CREATED:20251216T174544Z
LAST-MODIFIED:20251216T174544Z
UID:10002289-1782482400-1782487800@museums.kenosha.org
SUMMARY:SPARK! Riding for the Union
DESCRIPTION:SPARK! programs are designed for people in the early-to-mid stages of memory loss to visit with their family and care partners. \nThis monthly program engages participants in lively conversations\, storytelling\, object handling\, and other multi-sensory activities that relate. Space is limited so reservations are appreciated. For more information or to register\, please call 262-653-4432 or send an email to spark@kenosha.org \nFriday\, June 26 \nA new exhibit called Riding for the Union is open and summer is here. Let’s celebrate by touring the new gallery and with ice cream on the Civil War Museum terrace.
URL:https://museums.kenosha.org/events/spark-riding-for-the-union
LOCATION:Civil War Museum\, 5400 1st Ave\, Kenosha\, WI\, 53140\, United States
CATEGORIES:Adult,Civil War Museum
ATTACH;FMTTYPE=image/png:https://museums.kenosha.org/wp-content/uploads/2023/09/Spark_640×360.png
END:VEVENT
BEGIN:VEVENT
DTSTART;TZID=America/Chicago:20260707T100000
DTEND;TZID=America/Chicago:20260707T120000
DTSTAMP:20260424T222722
CREATED:20260123T202458Z
LAST-MODIFIED:20260123T202458Z
UID:10002668-1783418400-1783425600@museums.kenosha.org
SUMMARY:Summer Camp : Space
DESCRIPTION:Tuesday\, July 7 – Thursday\, July 9  |  10am – 12pm  |  $60 ($75 non-members)  \nBlast off into an unforgettable adventure at Space Camp! Kids will journey through the stars as they explore constellations\, planets\, and distant galaxies through a variety of experiments and crafts. Get ready for an out-of-this-world experience! \nAges 5-6  |  Register Here \nAges 7-10  |  Register Here
URL:https://museums.kenosha.org/events/summer-camp-space/2026-07-07
LOCATION:Kenosha Public Museum\, 5500 1st Ave\, Kenosha\, WI\, 53140\, United States
CATEGORIES:Family,Kenosha Public Museum
ATTACH;FMTTYPE=image/png:https://museums.kenosha.org/wp-content/uploads/2026/01/Camp_Carousel_Web_640x360px-1.png
END:VEVENT
BEGIN:VEVENT
DTSTART;TZID=America/Chicago:20260708T100000
DTEND;TZID=America/Chicago:20260708T120000
DTSTAMP:20260424T222722
CREATED:20260123T202458Z
LAST-MODIFIED:20260123T202458Z
UID:10002669-1783504800-1783512000@museums.kenosha.org
SUMMARY:Summer Camp : Space
DESCRIPTION:Tuesday\, July 7 – Thursday\, July 9  |  10am – 12pm  |  $60 ($75 non-members)  \nBlast off into an unforgettable adventure at Space Camp! Kids will journey through the stars as they explore constellations\, planets\, and distant galaxies through a variety of experiments and crafts. Get ready for an out-of-this-world experience! \nAges 5-6  |  Register Here \nAges 7-10  |  Register Here
URL:https://museums.kenosha.org/events/summer-camp-space/2026-07-08
LOCATION:Kenosha Public Museum\, 5500 1st Ave\, Kenosha\, WI\, 53140\, United States
CATEGORIES:Family,Kenosha Public Museum
ATTACH;FMTTYPE=image/png:https://museums.kenosha.org/wp-content/uploads/2026/01/Camp_Carousel_Web_640x360px-1.png
END:VEVENT
BEGIN:VEVENT
DTSTART;TZID=America/Chicago:20260709T100000
DTEND;TZID=America/Chicago:20260709T120000
DTSTAMP:20260424T222722
CREATED:20260123T202458Z
LAST-MODIFIED:20260123T202458Z
UID:10002670-1783591200-1783598400@museums.kenosha.org
SUMMARY:Summer Camp : Space
DESCRIPTION:Tuesday\, July 7 – Thursday\, July 9  |  10am – 12pm  |  $60 ($75 non-members)  \nBlast off into an unforgettable adventure at Space Camp! Kids will journey through the stars as they explore constellations\, planets\, and distant galaxies through a variety of experiments and crafts. Get ready for an out-of-this-world experience! \nAges 5-6  |  Register Here \nAges 7-10  |  Register Here
URL:https://museums.kenosha.org/events/summer-camp-space/2026-07-09
LOCATION:Kenosha Public Museum\, 5500 1st Ave\, Kenosha\, WI\, 53140\, United States
CATEGORIES:Family,Kenosha Public Museum
ATTACH;FMTTYPE=image/png:https://museums.kenosha.org/wp-content/uploads/2026/01/Camp_Carousel_Web_640x360px-1.png
END:VEVENT
BEGIN:VEVENT
DTSTART;TZID=America/Chicago:20260714T100000
DTEND;TZID=America/Chicago:20260714T120000
DTSTAMP:20260424T222722
CREATED:20260123T202803Z
LAST-MODIFIED:20260123T202803Z
UID:10002671-1784023200-1784030400@museums.kenosha.org
SUMMARY:Summer Camp: Art Around the World
DESCRIPTION:Tuesday\, July 14 – Wednesday\, July 16  |  10am – 12pm  |  $60 ($75 non-members)   \nExplore the world through creative expression with activities like crafting intricate sand mandalas\, painting Aboriginal dot figures\, experimenting with Japanese spilled ink prints\, and decorating traditional Matryoshka nesting dolls. Each art form offers a fun and hands-on way to learn about different cultures while developing artistic skills. \nAges 5-6  |  Register Here \nAges 7-10  |  Register Here
URL:https://museums.kenosha.org/events/summer-camp-art-around-the-world-2/2026-07-14
LOCATION:Kenosha Public Museum\, 5500 1st Ave\, Kenosha\, WI\, 53140\, United States
CATEGORIES:Kenosha Public Museum,Youth
ATTACH;FMTTYPE=image/png:https://museums.kenosha.org/wp-content/uploads/2025/01/Camp_ArtWorld_640x360.png
END:VEVENT
BEGIN:VEVENT
DTSTART;TZID=America/Chicago:20260715T100000
DTEND;TZID=America/Chicago:20260715T120000
DTSTAMP:20260424T222722
CREATED:20260123T202803Z
LAST-MODIFIED:20260123T202803Z
UID:10002672-1784109600-1784116800@museums.kenosha.org
SUMMARY:Summer Camp: Art Around the World
DESCRIPTION:Tuesday\, July 14 – Wednesday\, July 16  |  10am – 12pm  |  $60 ($75 non-members)   \nExplore the world through creative expression with activities like crafting intricate sand mandalas\, painting Aboriginal dot figures\, experimenting with Japanese spilled ink prints\, and decorating traditional Matryoshka nesting dolls. Each art form offers a fun and hands-on way to learn about different cultures while developing artistic skills. \nAges 5-6  |  Register Here \nAges 7-10  |  Register Here
URL:https://museums.kenosha.org/events/summer-camp-art-around-the-world-2/2026-07-15
LOCATION:Kenosha Public Museum\, 5500 1st Ave\, Kenosha\, WI\, 53140\, United States
CATEGORIES:Kenosha Public Museum,Youth
ATTACH;FMTTYPE=image/png:https://museums.kenosha.org/wp-content/uploads/2025/01/Camp_ArtWorld_640x360.png
END:VEVENT
BEGIN:VEVENT
DTSTART;TZID=America/Chicago:20260716T100000
DTEND;TZID=America/Chicago:20260716T120000
DTSTAMP:20260424T222722
CREATED:20260123T202803Z
LAST-MODIFIED:20260123T202803Z
UID:10002673-1784196000-1784203200@museums.kenosha.org
SUMMARY:Summer Camp: Art Around the World
DESCRIPTION:Tuesday\, July 14 – Wednesday\, July 16  |  10am – 12pm  |  $60 ($75 non-members)   \nExplore the world through creative expression with activities like crafting intricate sand mandalas\, painting Aboriginal dot figures\, experimenting with Japanese spilled ink prints\, and decorating traditional Matryoshka nesting dolls. Each art form offers a fun and hands-on way to learn about different cultures while developing artistic skills. \nAges 5-6  |  Register Here \nAges 7-10  |  Register Here
URL:https://museums.kenosha.org/events/summer-camp-art-around-the-world-2/2026-07-16
LOCATION:Kenosha Public Museum\, 5500 1st Ave\, Kenosha\, WI\, 53140\, United States
CATEGORIES:Kenosha Public Museum,Youth
ATTACH;FMTTYPE=image/png:https://museums.kenosha.org/wp-content/uploads/2025/01/Camp_ArtWorld_640x360.png
END:VEVENT
BEGIN:VEVENT
DTSTART;TZID=America/Chicago:20260721T100000
DTEND;TZID=America/Chicago:20260721T120000
DTSTAMP:20260424T222722
CREATED:20260123T203358Z
LAST-MODIFIED:20260123T203358Z
UID:10002674-1784628000-1784635200@museums.kenosha.org
SUMMARY:Summer Camp: Oceans
DESCRIPTION:Tuesday\, July 21 – Thursday\, July 23 |  10am – 12pm  |  $60 ($75 non-members) \nDive into the wonders of our oceans!  rivers\, and lakes. Discover incredible sea creatures\, from vibrant fish to majestic whales\, while learning about their unique habitats. \nAges 5-6  |  Register Here \nAges 7-10  |  Register Here
URL:https://museums.kenosha.org/events/summer-camp-oceans/2026-07-21
LOCATION:Kenosha Public Museum\, 5500 1st Ave\, Kenosha\, WI\, 53140\, United States
CATEGORIES:Kenosha Public Museum,Youth
ATTACH;FMTTYPE=image/png:https://museums.kenosha.org/wp-content/uploads/2025/01/Camp_Oceans_640x360.png
END:VEVENT
BEGIN:VEVENT
DTSTART;TZID=America/Chicago:20260722T100000
DTEND;TZID=America/Chicago:20260722T120000
DTSTAMP:20260424T222722
CREATED:20260123T203358Z
LAST-MODIFIED:20260123T203358Z
UID:10002675-1784714400-1784721600@museums.kenosha.org
SUMMARY:Summer Camp: Oceans
DESCRIPTION:Tuesday\, July 21 – Thursday\, July 23 |  10am – 12pm  |  $60 ($75 non-members) \nDive into the wonders of our oceans!  rivers\, and lakes. Discover incredible sea creatures\, from vibrant fish to majestic whales\, while learning about their unique habitats. \nAges 5-6  |  Register Here \nAges 7-10  |  Register Here
URL:https://museums.kenosha.org/events/summer-camp-oceans/2026-07-22
LOCATION:Kenosha Public Museum\, 5500 1st Ave\, Kenosha\, WI\, 53140\, United States
CATEGORIES:Kenosha Public Museum,Youth
ATTACH;FMTTYPE=image/png:https://museums.kenosha.org/wp-content/uploads/2025/01/Camp_Oceans_640x360.png
END:VEVENT
BEGIN:VEVENT
DTSTART;TZID=America/Chicago:20260723T100000
DTEND;TZID=America/Chicago:20260723T120000
DTSTAMP:20260424T222722
CREATED:20260123T203358Z
LAST-MODIFIED:20260123T203358Z
UID:10002676-1784800800-1784808000@museums.kenosha.org
SUMMARY:Summer Camp: Oceans
DESCRIPTION:Tuesday\, July 21 – Thursday\, July 23 |  10am – 12pm  |  $60 ($75 non-members) \nDive into the wonders of our oceans!  rivers\, and lakes. Discover incredible sea creatures\, from vibrant fish to majestic whales\, while learning about their unique habitats. \nAges 5-6  |  Register Here \nAges 7-10  |  Register Here
URL:https://museums.kenosha.org/events/summer-camp-oceans/2026-07-23
LOCATION:Kenosha Public Museum\, 5500 1st Ave\, Kenosha\, WI\, 53140\, United States
CATEGORIES:Kenosha Public Museum,Youth
ATTACH;FMTTYPE=image/png:https://museums.kenosha.org/wp-content/uploads/2025/01/Camp_Oceans_640x360.png
END:VEVENT
BEGIN:VEVENT
DTSTART;TZID=America/Chicago:20260730T120000
DTEND;TZID=America/Chicago:20260730T130000
DTSTAMP:20260424T222722
CREATED:20260107T235037Z
LAST-MODIFIED:20260107T235851Z
UID:10002293-1785412800-1785416400@museums.kenosha.org
SUMMARY:Museum Book Club: Revolutionary War on Wednesday by Mary Pope Osborne
DESCRIPTION:This family-friendly book club meeting will take place in the Civil War Museum Resource Center\, followed by a craft!  \nIt is a dark and snowy night when the Magic Tree House whisks Jack and Annie back to colonial times. General George Washington is about to lead his army in a sneak attack against their enemy. But now a terrible weather is making the great general question his plans. Can Jack and Annie keep history on track? The fate of the country rests in their hands! \nThursday\, July 30  |  12pm – 1pm  |  Discussion led by: Emily Mentzel  |  Free\, registration appreciated  |  Register Here
URL:https://museums.kenosha.org/events/museum-book-club-revolutionary-war-on-wednesday-by-mary-pope-osborne
LOCATION:Civil War Museum\, 5400 1st Ave\, Kenosha\, WI\, 53140\, United States
CATEGORIES:Civil War Museum,Family
ATTACH;FMTTYPE=image/png:https://museums.kenosha.org/wp-content/uploads/2025/12/MuseumBookClub_640x360.png
END:VEVENT
BEGIN:VEVENT
DTSTART;TZID=America/Chicago:20260804T100000
DTEND;TZID=America/Chicago:20260804T120000
DTSTAMP:20260424T222722
CREATED:20260123T204654Z
LAST-MODIFIED:20260123T204654Z
UID:10002677-1785837600-1785844800@museums.kenosha.org
SUMMARY:Summer Camp: American Art
DESCRIPTION:Tuesday\, August 4 – Thursday\, August 6 |  10am – 12pm  |  $60 ($75 non-members) \nLearn about a few important Americans and the impact of their artwork on the world\, and then try their techniques yourself in this three-day camp. From the chaos of Abstract Expressionism to the color theory of Alma Thomas\, find new ways to see the world around you. \nAges 5-6  |  Register Here \nAges 7-10  |  Register Here
URL:https://museums.kenosha.org/events/summer-camp-american-art/2026-08-04
LOCATION:Kenosha Public Museum\, 5500 1st Ave\, Kenosha\, WI\, 53140\, United States
CATEGORIES:Kenosha Public Museum,Youth
ATTACH;FMTTYPE=image/png:https://museums.kenosha.org/wp-content/uploads/2026/01/Camp_Carousel_Web_640x360px-2.png
END:VEVENT
BEGIN:VEVENT
DTSTART;TZID=America/Chicago:20260805T100000
DTEND;TZID=America/Chicago:20260805T120000
DTSTAMP:20260424T222722
CREATED:20260123T204654Z
LAST-MODIFIED:20260123T204654Z
UID:10002678-1785924000-1785931200@museums.kenosha.org
SUMMARY:Summer Camp: American Art
DESCRIPTION:Tuesday\, August 4 – Thursday\, August 6 |  10am – 12pm  |  $60 ($75 non-members) \nLearn about a few important Americans and the impact of their artwork on the world\, and then try their techniques yourself in this three-day camp. From the chaos of Abstract Expressionism to the color theory of Alma Thomas\, find new ways to see the world around you. \nAges 5-6  |  Register Here \nAges 7-10  |  Register Here
URL:https://museums.kenosha.org/events/summer-camp-american-art/2026-08-05
LOCATION:Kenosha Public Museum\, 5500 1st Ave\, Kenosha\, WI\, 53140\, United States
CATEGORIES:Kenosha Public Museum,Youth
ATTACH;FMTTYPE=image/png:https://museums.kenosha.org/wp-content/uploads/2026/01/Camp_Carousel_Web_640x360px-2.png
END:VEVENT
BEGIN:VEVENT
DTSTART;TZID=America/Chicago:20260806T100000
DTEND;TZID=America/Chicago:20260806T120000
DTSTAMP:20260424T222722
CREATED:20260123T204654Z
LAST-MODIFIED:20260123T204654Z
UID:10002679-1786010400-1786017600@museums.kenosha.org
SUMMARY:Summer Camp: American Art
DESCRIPTION:Tuesday\, August 4 – Thursday\, August 6 |  10am – 12pm  |  $60 ($75 non-members) \nLearn about a few important Americans and the impact of their artwork on the world\, and then try their techniques yourself in this three-day camp. From the chaos of Abstract Expressionism to the color theory of Alma Thomas\, find new ways to see the world around you. \nAges 5-6  |  Register Here \nAges 7-10  |  Register Here
URL:https://museums.kenosha.org/events/summer-camp-american-art/2026-08-06
LOCATION:Kenosha Public Museum\, 5500 1st Ave\, Kenosha\, WI\, 53140\, United States
CATEGORIES:Kenosha Public Museum,Youth
ATTACH;FMTTYPE=image/png:https://museums.kenosha.org/wp-content/uploads/2026/01/Camp_Carousel_Web_640x360px-2.png
END:VEVENT
BEGIN:VEVENT
DTSTART;TZID=America/Chicago:20260811T100000
DTEND;TZID=America/Chicago:20260811T120000
DTSTAMP:20260424T222722
CREATED:20260123T205540Z
LAST-MODIFIED:20260123T205540Z
UID:10002680-1786442400-1786449600@museums.kenosha.org
SUMMARY:Summer Camp: Safari
DESCRIPTION:Tuesday\, August 11 – Thursday\, August 13 |  10am – 12pm  |  $60 ($75 non-members) \nEmbark on an animal expedition! Campers will journey around the world to discover fascinating animals and the habitats they call home. \nAges 5-6  |  Register Here \nAges 7-10  |  Register Here
URL:https://museums.kenosha.org/events/summer-camp-safari/2026-08-11
LOCATION:Kenosha Public Museum\, 5500 1st Ave\, Kenosha\, WI\, 53140\, United States
CATEGORIES:Kenosha Public Museum,Youth
ATTACH;FMTTYPE=image/png:https://museums.kenosha.org/wp-content/uploads/2026/01/Camp_Carousel_Web_640x360px-3.png
END:VEVENT
BEGIN:VEVENT
DTSTART;TZID=America/Chicago:20260812T100000
DTEND;TZID=America/Chicago:20260812T120000
DTSTAMP:20260424T222722
CREATED:20260123T205540Z
LAST-MODIFIED:20260123T205540Z
UID:10002681-1786528800-1786536000@museums.kenosha.org
SUMMARY:Summer Camp: Safari
DESCRIPTION:Tuesday\, August 11 – Thursday\, August 13 |  10am – 12pm  |  $60 ($75 non-members) \nEmbark on an animal expedition! Campers will journey around the world to discover fascinating animals and the habitats they call home. \nAges 5-6  |  Register Here \nAges 7-10  |  Register Here
URL:https://museums.kenosha.org/events/summer-camp-safari/2026-08-12
LOCATION:Kenosha Public Museum\, 5500 1st Ave\, Kenosha\, WI\, 53140\, United States
CATEGORIES:Kenosha Public Museum,Youth
ATTACH;FMTTYPE=image/png:https://museums.kenosha.org/wp-content/uploads/2026/01/Camp_Carousel_Web_640x360px-3.png
END:VEVENT
BEGIN:VEVENT
DTSTART;TZID=America/Chicago:20260813T100000
DTEND;TZID=America/Chicago:20260813T120000
DTSTAMP:20260424T222722
CREATED:20260123T205540Z
LAST-MODIFIED:20260123T205540Z
UID:10002682-1786615200-1786622400@museums.kenosha.org
SUMMARY:Summer Camp: Safari
DESCRIPTION:Tuesday\, August 11 – Thursday\, August 13 |  10am – 12pm  |  $60 ($75 non-members) \nEmbark on an animal expedition! Campers will journey around the world to discover fascinating animals and the habitats they call home. \nAges 5-6  |  Register Here \nAges 7-10  |  Register Here
URL:https://museums.kenosha.org/events/summer-camp-safari/2026-08-13
LOCATION:Kenosha Public Museum\, 5500 1st Ave\, Kenosha\, WI\, 53140\, United States
CATEGORIES:Kenosha Public Museum,Youth
ATTACH;FMTTYPE=image/png:https://museums.kenosha.org/wp-content/uploads/2026/01/Camp_Carousel_Web_640x360px-3.png
END:VEVENT
BEGIN:VEVENT
DTSTART;TZID=America/Chicago:20260827T120000
DTEND;TZID=America/Chicago:20260827T130000
DTSTAMP:20260424T222722
CREATED:20260107T235211Z
LAST-MODIFIED:20260107T235211Z
UID:10002294-1787832000-1787835600@museums.kenosha.org
SUMMARY:Museum Book Club: Our First Civil War: Patriots and Loyalists in the American Revolution by H.W. Brands
DESCRIPTION:George Washington and Benjamin Franklin were the unlikeliest of rebels. Washington in the 1770s stood at the apex of Virginia society. Franklin was more successful still\, having risen from humble origins to world fame. John Adams might have seemed a more obvious candidate for rebellion\, being of cantankerous temperament. Even so\, he revered the law. Yet all three men became rebels against the British Empire that fostered their success. \nThursday\, August 27  |  12pm – 1pm  |  Discussion led by: Emily Mentzel  |  Free\, registration appreciated  |  Register Here
URL:https://museums.kenosha.org/events/museum-book-club-our-first-civil-war-patriots-and-loyalists-in-the-american-revolution-by-h-w-brands
LOCATION:Civil War Museum\, 5400 1st Ave\, Kenosha\, WI\, 53140\, United States
CATEGORIES:Adult,Civil War Museum
ATTACH;FMTTYPE=image/png:https://museums.kenosha.org/wp-content/uploads/2025/12/MuseumBookClub_640x360.png
END:VEVENT
BEGIN:VEVENT
DTSTART;TZID=America/Chicago:20261029T120000
DTEND;TZID=America/Chicago:20261029T130000
DTSTAMP:20260424T222722
CREATED:20260107T235600Z
LAST-MODIFIED:20260107T235600Z
UID:10002295-1793275200-1793278800@museums.kenosha.org
SUMMARY:Museum Book Club: Night Watch by Jayne Anne Phillips
DESCRIPTION:In 1874\, in the wake of the War\, erasure\, trauma\, and namelessness haunt civilians and veterans\, renegades and wanderers\, freedmen and runaways. Twelve-year-old ConaLee\, the adult in her family for as long as she can remember\, finds herself on a buckboard journey with her mother\, Eliza\, who hasn’t spoken in more than a year. They arrive at the Trans-Allegheny Lunatic Asylum in West Virginia\, delivered to the hospital’s entrance by a war veteran who has forced himself into their world. There\, far from family\, a beloved neighbor\, and the mountain home they knew\, they try to reclaim their lives. \nThursday\, October 29  |  12pm – 1pm  |  Discussion led by: Emily Mentzel  |  Free\, registration appreciated  |  Register Here
URL:https://museums.kenosha.org/events/museum-book-club-night-watch-by-jayne-anne-phillips
LOCATION:Civil War Museum\, 5400 1st Ave\, Kenosha\, WI\, 53140\, United States
CATEGORIES:Adult
ATTACH;FMTTYPE=image/png:https://museums.kenosha.org/wp-content/uploads/2025/12/MuseumBookClub_640x360.png
END:VEVENT
BEGIN:VEVENT
DTSTART;TZID=America/Chicago:20261217T120000
DTEND;TZID=America/Chicago:20261217T130000
DTSTAMP:20260424T222722
CREATED:20260107T235756Z
LAST-MODIFIED:20260107T235756Z
UID:10002296-1797508800-1797512400@museums.kenosha.org
SUMMARY:Museum Book Club: Written in the Waters by Tara Roberts
DESCRIPTION:When Tara Roberts first caught sight of a photograph at the Smithsonian’s National Museum of African American History depicting the scuba and underwater archaeology group Diving With a Purpose\, it called out to her. Here were Black women and men strapping on masks\, fins\, and tanks to explore Atlantic Ocean waters along the coastlines of Africa\, North America\, and Central America\, seeking the wrecks of slave ships long lost in time. Inspired\, Roberts joined them—and started on a path of discovery more challenging and personal than she could ever have imagined. \nThursday\, December 17  |  12pm – 1pm  |  Discussion led by: Emily Mentzel  |  Free\, registration appreciated  |  Register Here
URL:https://museums.kenosha.org/events/museum-book-club-written-in-the-waters-by-tara-roberts
LOCATION:Civil War Museum\, 5400 1st Ave\, Kenosha\, WI\, 53140\, United States
CATEGORIES:Adult,Civil War Museum
ATTACH;FMTTYPE=image/png:https://museums.kenosha.org/wp-content/uploads/2025/12/MuseumBookClub_640x360.png
END:VEVENT
END:VCALENDAR