BEGIN:VCALENDAR
VERSION:2.0
PRODID:-//Kenosha Public Museum - ECPv6.15.20//NONSGML v1.0//EN
CALSCALE:GREGORIAN
METHOD:PUBLISH
X-WR-CALNAME:Kenosha Public Museum
X-ORIGINAL-URL:https://museums.kenosha.org
X-WR-CALDESC:Events for Kenosha Public Museum
REFRESH-INTERVAL;VALUE=DURATION:PT1H
X-Robots-Tag:noindex
X-PUBLISHED-TTL:PT1H
BEGIN:VTIMEZONE
TZID:America/Chicago
BEGIN:DAYLIGHT
TZOFFSETFROM:-0600
TZOFFSETTO:-0500
TZNAME:CDT
DTSTART:20230312T080000
END:DAYLIGHT
BEGIN:STANDARD
TZOFFSETFROM:-0500
TZOFFSETTO:-0600
TZNAME:CST
DTSTART:20231105T070000
END:STANDARD
BEGIN:DAYLIGHT
TZOFFSETFROM:-0600
TZOFFSETTO:-0500
TZNAME:CDT
DTSTART:20240310T080000
END:DAYLIGHT
BEGIN:STANDARD
TZOFFSETFROM:-0500
TZOFFSETTO:-0600
TZNAME:CST
DTSTART:20241103T070000
END:STANDARD
BEGIN:DAYLIGHT
TZOFFSETFROM:-0600
TZOFFSETTO:-0500
TZNAME:CDT
DTSTART:20250309T080000
END:DAYLIGHT
BEGIN:STANDARD
TZOFFSETFROM:-0500
TZOFFSETTO:-0600
TZNAME:CST
DTSTART:20251102T070000
END:STANDARD
END:VTIMEZONE
BEGIN:VEVENT
DTSTART;TZID=America/Chicago:20241022T183000
DTEND;TZID=America/Chicago:20241022T200000
DTSTAMP:20260422T121126
CREATED:20240916T163204Z
LAST-MODIFIED:20240916T163204Z
UID:10001586-1729621800-1729627200@museums.kenosha.org
SUMMARY:Civil War Museum Media Club: Wide Awake: The Forgotten Force That Elected Lincoln and Spurred the Civil War by Jon Grinspan
DESCRIPTION:Tuesday\, October 22  |  6:30pm – 8:00pm  |  $8 ($10 for non-members)  | Instructor: Doug Dammann  |  Register Here \nJon Grinspan’s new book explores a political group known as the Wide Awakes and how their actions influenced the presidential election of 1860 and the coming of the Civil War.  The group began as fired-up young Northerners who acted as bodyguards to defend Republican stump speakers from frequent verbal and physical attacks. The idea spread and hundreds of thousands of young people organized into boisterous\, uniformed\, torch-bearing brigades. These Wide Awakes–mostly working-class Americans in their twenties–became one of the largest\, most spectacular\, and most influential political movements in our history. To some\, their actions demonstrated the power of a rising majority promoting political ideas. To others\, it looked like a paramilitary force training to invade the South. Within a year\, the nation would be at war with itself\, and many on both sides would point to the Wide Awakes as the mechanism that got them there. \nParticipants in the Media Club are invited to read the book before the meeting and to come prepared to share their thoughts on its themes in an informal and thought provoking discussion.
URL:https://museums.kenosha.org/events/civil-war-museum-media-club-wide-awake-the-forgotten-force-that-elected-lincoln-and-spurred-the-civil-war-by-jon-grinspan
LOCATION:Civil War Museum\, 5400 1st Ave\, Kenosha\, WI\, 53140\, United States
CATEGORIES:Adult,Civil War Museum
ATTACH;FMTTYPE=image/png:https://museums.kenosha.org/wp-content/uploads/2024/09/CWM_MediaClub_640x360px.png
END:VEVENT
END:VCALENDAR