BEGIN:VCALENDAR
VERSION:2.0
PRODID:-//Kenosha Public Museum - ECPv6.15.20//NONSGML v1.0//EN
CALSCALE:GREGORIAN
METHOD:PUBLISH
X-WR-CALNAME:Kenosha Public Museum
X-ORIGINAL-URL:https://museums.kenosha.org
X-WR-CALDESC:Events for Kenosha Public Museum
REFRESH-INTERVAL;VALUE=DURATION:PT1H
X-Robots-Tag:noindex
X-PUBLISHED-TTL:PT1H
BEGIN:VTIMEZONE
TZID:America/Chicago
BEGIN:DAYLIGHT
TZOFFSETFROM:-0600
TZOFFSETTO:-0500
TZNAME:CDT
DTSTART:20220313T080000
END:DAYLIGHT
BEGIN:STANDARD
TZOFFSETFROM:-0500
TZOFFSETTO:-0600
TZNAME:CST
DTSTART:20221106T070000
END:STANDARD
BEGIN:DAYLIGHT
TZOFFSETFROM:-0600
TZOFFSETTO:-0500
TZNAME:CDT
DTSTART:20230312T080000
END:DAYLIGHT
BEGIN:STANDARD
TZOFFSETFROM:-0500
TZOFFSETTO:-0600
TZNAME:CST
DTSTART:20231105T070000
END:STANDARD
BEGIN:DAYLIGHT
TZOFFSETFROM:-0600
TZOFFSETTO:-0500
TZNAME:CDT
DTSTART:20240310T080000
END:DAYLIGHT
BEGIN:STANDARD
TZOFFSETFROM:-0500
TZOFFSETTO:-0600
TZNAME:CST
DTSTART:20241103T070000
END:STANDARD
END:VTIMEZONE
BEGIN:VEVENT
DTSTART;TZID=America/Chicago:20230923T093000
DTEND;TZID=America/Chicago:20230923T160000
DTSTAMP:20260422T103114
CREATED:20230215T155221Z
LAST-MODIFIED:20230215T155557Z
UID:10000452-1695461400-1695484800@museums.kenosha.org
SUMMARY:The Great Lakes Civil War Forum: Vicksburg Is The Key
DESCRIPTION:Saturday\, September 23  |  9:30am – 4:00pm  |  $64 ($80 non-members)  \nRegister Here \nCheck-in starts at 8:30am\, program begins at 9:30am. \nSchedule of Presentations \nChampion Hill: Decisive Battle for Vicksburg  |  Presented by Dr. Tim Smith\, University of Tennessee-Martin \nThrough all the long months of operations against Vicksburg\, Champion Hill stands as the most decisive battle of that decisive campaign. Fought on May 16\, 1863\, Champion Hill almost literally decided the fate of Vicksburg and the Confederate army that defended it. Ulysses S. Grant even wrote to his friend William T. Sherman that night\, “I am of the opinion that the battle of Vicksburg has been fought.” So why was the fight such a decisive Union victory? Terrain\, numbers\, and timing all played a role\, but in the end\, leadership was the biggest factor in victory and defeat. This lecture will compare and contrast Union and Confederate Leadership at Champion Hill and analyze the results mainly within the context of the two generals involved. \nFaithful Service\, Unselfish Devotion: Wisconsin Anecdotes During the Vicksburg Campaign  |  Presented by Andrew R. Miller\, Lead Interpretive Ranger and Historic Weapons Program Coordinator\, Vicksburg National Military Park \nAndrew Miller’s program will focus on the service of the over 9000 soldiers from Wisconsin who participated in the campaign to capture Vicksburg. \nForgotten Footnotes – Vicksburg’s Victims of Sickness and Disease  |  Presented by Rev. Robert Miller \nMedical professionals studying the Civil War have concluded that sickness from infectious illness was a major factor affecting the Vicksburg campaign. Confederate forces had a greater total illness rate\, diarrhea\, and malaria than did the attacking Union forces\, and it is reasonable to conclude that medical care affected the outcome of the Vicksburg campaign. Dr. Michael Brown avers that “The South’s significant medical disadvantages and increased risk of infectious diseases ensured a Northern victory.” We will examine the human interest perspective of this aspect of the Vicksburg campaign\, reflecting on the toll that sickness and disease played. Also considered will be some of the forgotten stories of people who suffered and died because of health issues. Notable among those who died by disease were General John Bowen\, Willie Sherman\, and several Catholic clergy ministering to troops at the time. \nA New Look at Old Abe’s Color Guard–Analyzing a Historical Image Using Artificial Intelligence  |  Presented by Xukai Zou\, Purdue University Indianapolis \nOne of the most well-known images of the Civil War is that of the 8th Wisconsin Infantry Color Guard and their live eagle mascot\, Old Abe\, following the fall of Vicksburg\, Mississippi in July 1863. Despite the subsequent fame of this iconic image\, the true identities of many of the color guard members have been lost to time. In this work\, researchers from Purdue University Indianapolis\, assisted by Civil War historians\, reexamine evidence from primary and secondary sources to identify a group of soldiers who potentially appear in the image. Using state-of-the-art\, artificial intelligence-based face recognition techniques\, researchers evaluate the relative likelihood of several of the color guard members’ potential identities. As a result\, the identities of several previously unidentified color guard members are proposed\, as well as new alternate identities of several previously-identified color guard members.
URL:https://museums.kenosha.org/events/the-great-lakes-civil-war-forum-vicksburg-is-the-key
LOCATION:Civil War Museum\, 5400 1st Ave\, Kenosha\, WI\, 53140\, United States
CATEGORIES:Adult,Civil War Museum
ATTACH;FMTTYPE=image/png:https://museums.kenosha.org/wp-content/uploads/2023/02/CWM_Soldiers_640x360.png
END:VEVENT
END:VCALENDAR