BEGIN:VCALENDAR
VERSION:2.0
PRODID:-//Kenosha Public Museum - ECPv6.15.20//NONSGML v1.0//EN
CALSCALE:GREGORIAN
METHOD:PUBLISH
X-WR-CALNAME:Kenosha Public Museum
X-ORIGINAL-URL:https://museums.kenosha.org
X-WR-CALDESC:Events for Kenosha Public Museum
REFRESH-INTERVAL;VALUE=DURATION:PT1H
X-Robots-Tag:noindex
X-PUBLISHED-TTL:PT1H
BEGIN:VTIMEZONE
TZID:America/Chicago
BEGIN:DAYLIGHT
TZOFFSETFROM:-0600
TZOFFSETTO:-0500
TZNAME:CDT
DTSTART:20250309T080000
END:DAYLIGHT
BEGIN:STANDARD
TZOFFSETFROM:-0500
TZOFFSETTO:-0600
TZNAME:CST
DTSTART:20251102T070000
END:STANDARD
BEGIN:DAYLIGHT
TZOFFSETFROM:-0600
TZOFFSETTO:-0500
TZNAME:CDT
DTSTART:20260308T080000
END:DAYLIGHT
BEGIN:STANDARD
TZOFFSETFROM:-0500
TZOFFSETTO:-0600
TZNAME:CST
DTSTART:20261101T070000
END:STANDARD
BEGIN:DAYLIGHT
TZOFFSETFROM:-0600
TZOFFSETTO:-0500
TZNAME:CDT
DTSTART:20270314T080000
END:DAYLIGHT
BEGIN:STANDARD
TZOFFSETFROM:-0500
TZOFFSETTO:-0600
TZNAME:CST
DTSTART:20271107T070000
END:STANDARD
END:VTIMEZONE
BEGIN:VEVENT
DTSTART;TZID=America/Chicago:20260423T180000
DTEND;TZID=America/Chicago:20260423T200000
DTSTAMP:20260424T033905
CREATED:20260210T223908Z
LAST-MODIFIED:20260210T223908Z
UID:10002698-1776967200-1776974400@museums.kenosha.org
SUMMARY:Wire and Bead Wrapped Hoop Earrings
DESCRIPTION:Thursday\, April 23  |  6:00pm – 8:00pm  |  Instructor: Tiffany Knopow\, MFA  |  $52 ($65 for non-members)  |  Register Here \nLearn a few easy jewelry-making techniques and construct at least three sets of earrings. Participants can choose to use either type of bead in the photograph and experiment with many different wrapping techniques. All supplies are included\, no experience necessary.
URL:https://museums.kenosha.org/events/wire-and-bead-wrapped-hoop-earrings
LOCATION:Kenosha Public Museum\, 5500 1st Ave\, Kenosha\, WI\, 53140\, United States
CATEGORIES:Adult,Kenosha Public Museum
ATTACH;FMTTYPE=image/png:https://museums.kenosha.org/wp-content/uploads/2026/02/KPM_WS_WireHoop_640x360px.png
END:VEVENT
END:VCALENDAR