BEGIN:VCALENDAR
VERSION:2.0
PRODID:-//Kenosha Public Museum - ECPv6.15.20//NONSGML v1.0//EN
CALSCALE:GREGORIAN
METHOD:PUBLISH
X-ORIGINAL-URL:https://museums.kenosha.org
X-WR-CALDESC:Events for Kenosha Public Museum
REFRESH-INTERVAL;VALUE=DURATION:PT1H
X-Robots-Tag:noindex
X-PUBLISHED-TTL:PT1H
BEGIN:VTIMEZONE
TZID:America/Chicago
BEGIN:DAYLIGHT
TZOFFSETFROM:-0600
TZOFFSETTO:-0500
TZNAME:CDT
DTSTART:20240310T080000
END:DAYLIGHT
BEGIN:STANDARD
TZOFFSETFROM:-0500
TZOFFSETTO:-0600
TZNAME:CST
DTSTART:20241103T070000
END:STANDARD
BEGIN:DAYLIGHT
TZOFFSETFROM:-0600
TZOFFSETTO:-0500
TZNAME:CDT
DTSTART:20250309T080000
END:DAYLIGHT
BEGIN:STANDARD
TZOFFSETFROM:-0500
TZOFFSETTO:-0600
TZNAME:CST
DTSTART:20251102T070000
END:STANDARD
BEGIN:DAYLIGHT
TZOFFSETFROM:-0600
TZOFFSETTO:-0500
TZNAME:CDT
DTSTART:20260308T080000
END:DAYLIGHT
BEGIN:STANDARD
TZOFFSETFROM:-0500
TZOFFSETTO:-0600
TZNAME:CST
DTSTART:20261101T070000
END:STANDARD
END:VTIMEZONE
BEGIN:VEVENT
DTSTART;TZID=America/Chicago:20250708T100000
DTEND;TZID=America/Chicago:20250708T120000
DTSTAMP:20260424T042326
CREATED:20250103T151456Z
LAST-MODIFIED:20250103T151456Z
UID:10001672-1751968800-1751976000@museums.kenosha.org
SUMMARY:Summer Camp: Ancient Civilizations
DESCRIPTION:Tuesday\, July 8 – Thursday\, July 10  |  10am – 12pm  |  $60 ($75 non-members)  \nThis week history comes alive! Young explorers will dive deep into the world of ancient cultures\, from the Vikings to Egypt and Greece. Your child will discover the wonders of the past through writing hieroglyphics\, creating shields and our own Olympic games. \n5 – 6 Register Here  |  7-10 Register Here
URL:https://museums.kenosha.org/events/summer-camp-ancient-civilizations/2025-07-08
LOCATION:Kenosha Public Museum\, 5500 1st Ave\, Kenosha\, WI\, 53140\, United States
CATEGORIES:Kenosha Public Museum,Youth
ATTACH;FMTTYPE=image/png:https://museums.kenosha.org/wp-content/uploads/2025/01/Camp_AncientCiv_640x360.png
END:VEVENT
BEGIN:VEVENT
DTSTART;TZID=America/Chicago:20250709T100000
DTEND;TZID=America/Chicago:20250709T120000
DTSTAMP:20260424T042326
CREATED:20250103T151456Z
LAST-MODIFIED:20250103T151456Z
UID:10001673-1752055200-1752062400@museums.kenosha.org
SUMMARY:Summer Camp: Ancient Civilizations
DESCRIPTION:Tuesday\, July 8 – Thursday\, July 10  |  10am – 12pm  |  $60 ($75 non-members)  \nThis week history comes alive! Young explorers will dive deep into the world of ancient cultures\, from the Vikings to Egypt and Greece. Your child will discover the wonders of the past through writing hieroglyphics\, creating shields and our own Olympic games. \n5 – 6 Register Here  |  7-10 Register Here
URL:https://museums.kenosha.org/events/summer-camp-ancient-civilizations/2025-07-09
LOCATION:Kenosha Public Museum\, 5500 1st Ave\, Kenosha\, WI\, 53140\, United States
CATEGORIES:Kenosha Public Museum,Youth
ATTACH;FMTTYPE=image/png:https://museums.kenosha.org/wp-content/uploads/2025/01/Camp_AncientCiv_640x360.png
END:VEVENT
BEGIN:VEVENT
DTSTART;TZID=America/Chicago:20250710T100000
DTEND;TZID=America/Chicago:20250710T120000
DTSTAMP:20260424T042326
CREATED:20250103T151456Z
LAST-MODIFIED:20250103T151456Z
UID:10001674-1752141600-1752148800@museums.kenosha.org
SUMMARY:Summer Camp: Ancient Civilizations
DESCRIPTION:Tuesday\, July 8 – Thursday\, July 10  |  10am – 12pm  |  $60 ($75 non-members)  \nThis week history comes alive! Young explorers will dive deep into the world of ancient cultures\, from the Vikings to Egypt and Greece. Your child will discover the wonders of the past through writing hieroglyphics\, creating shields and our own Olympic games. \n5 – 6 Register Here  |  7-10 Register Here
URL:https://museums.kenosha.org/events/summer-camp-ancient-civilizations/2025-07-10
LOCATION:Kenosha Public Museum\, 5500 1st Ave\, Kenosha\, WI\, 53140\, United States
CATEGORIES:Kenosha Public Museum,Youth
ATTACH;FMTTYPE=image/png:https://museums.kenosha.org/wp-content/uploads/2025/01/Camp_AncientCiv_640x360.png
END:VEVENT
END:VCALENDAR