BEGIN:VCALENDAR
VERSION:2.0
PRODID:-//Kenosha Public Museum - ECPv6.15.20//NONSGML v1.0//EN
CALSCALE:GREGORIAN
METHOD:PUBLISH
X-ORIGINAL-URL:https://museums.kenosha.org
X-WR-CALDESC:Events for Kenosha Public Museum
REFRESH-INTERVAL;VALUE=DURATION:PT1H
X-Robots-Tag:noindex
X-PUBLISHED-TTL:PT1H
BEGIN:VTIMEZONE
TZID:America/Chicago
BEGIN:DAYLIGHT
TZOFFSETFROM:-0600
TZOFFSETTO:-0500
TZNAME:CDT
DTSTART:20250309T080000
END:DAYLIGHT
BEGIN:STANDARD
TZOFFSETFROM:-0500
TZOFFSETTO:-0600
TZNAME:CST
DTSTART:20251102T070000
END:STANDARD
BEGIN:DAYLIGHT
TZOFFSETFROM:-0600
TZOFFSETTO:-0500
TZNAME:CDT
DTSTART:20260308T080000
END:DAYLIGHT
BEGIN:STANDARD
TZOFFSETFROM:-0500
TZOFFSETTO:-0600
TZNAME:CST
DTSTART:20261101T070000
END:STANDARD
BEGIN:DAYLIGHT
TZOFFSETFROM:-0600
TZOFFSETTO:-0500
TZNAME:CDT
DTSTART:20270314T080000
END:DAYLIGHT
BEGIN:STANDARD
TZOFFSETFROM:-0500
TZOFFSETTO:-0600
TZNAME:CST
DTSTART:20271107T070000
END:STANDARD
END:VTIMEZONE
BEGIN:VEVENT
DTSTART;TZID=America/Chicago:20260316T103000
DTEND;TZID=America/Chicago:20260316T133000
DTSTAMP:20260424T170053
CREATED:20260210T223507Z
LAST-MODIFIED:20260210T223507Z
UID:10002694-1773657000-1773667800@museums.kenosha.org
SUMMARY:Spring Watercolor Techniques I
DESCRIPTION:Mondays\, March 16 – April 13  |  10:30am – 1:30pm  |  Instructor: Barbara Farrell  |  $92 ($115 for non-members)  |  Register Here \nDesigned for painters of all skill levels\, come explore the magic of watercolor painting. Each of the four sessions will begin with a demonstration showcasing the technique of the day. Students are instructed on color mixing\, application and removal\, various papers and mediums in a relaxed environment devoted to the students’ personal styles. Subjects include landscapes and still life.
URL:https://museums.kenosha.org/events/spring-watercolor-techniques-i-2
LOCATION:Kenosha Public Museum\, 5500 1st Ave\, Kenosha\, WI\, 53140\, United States
CATEGORIES:Adult,Kenosha Public Museum
ATTACH;FMTTYPE=image/png:https://museums.kenosha.org/wp-content/uploads/2023/12/KPM_WS_Watercolor_640x360px.png
END:VEVENT
BEGIN:VEVENT
DTSTART;TZID=America/Chicago:20260318T093000
DTEND;TZID=America/Chicago:20260318T100000
DTSTAMP:20260424T170053
CREATED:20250825T181549Z
LAST-MODIFIED:20250825T181549Z
UID:10002186-1773826200-1773828000@museums.kenosha.org
SUMMARY:Museum Munchkins
DESCRIPTION:Every Wednesday Morning  |  9:30am – 10:00am  |  Free \nJoin Mr. Nick for songs\, stories\, and activities designed to get you and your preschooler excited about natural science and the world around us. Every week we learn together about a new animal\, so there’s ALWAYS something new to discover\, for kids and adults alike! \nNo registration is required. Intended for ages 0-3. \nMuseum Munchkins will not take place Wednesday\, December 24 or Wednesday\, December 31. 
URL:https://museums.kenosha.org/events/museum-munchkins-7/2026-03-18
LOCATION:Kenosha Public Museum\, 5500 1st Ave\, Kenosha\, WI\, 53140\, United States
CATEGORIES:Family,Kenosha Public Museum
ATTACH;FMTTYPE=image/png:https://museums.kenosha.org/wp-content/uploads/2023/02/KPM_Munchkins_640x360.png
END:VEVENT
BEGIN:VEVENT
DTSTART;TZID=America/Chicago:20260320T140000
DTEND;TZID=America/Chicago:20260320T153000
DTSTAMP:20260424T170053
CREATED:20251216T174330Z
LAST-MODIFIED:20251216T174330Z
UID:10002286-1774015200-1774020600@museums.kenosha.org
SUMMARY:SPARK! Colorful Collages
DESCRIPTION:SPARK! programs are designed for people in the early-to-mid stages of memory loss to visit with their family and care partners. \nThis monthly program engages participants in lively conversations\, storytelling\, object handling\, and other multi-sensory activities that relate. Space is limited so reservations are appreciated. For more information or to register\, please call 262-653-4432 or send an email to spark@kenosha.org \nFriday\, March 20 \nOur group will use colorful shapes to create designs on paper\, picture frames\, and more.
URL:https://museums.kenosha.org/events/spark-colorful-collages
LOCATION:Civil War Museum\, 5400 1st Ave\, Kenosha\, WI\, 53140\, United States
CATEGORIES:Adult,Civil War Museum
ATTACH;FMTTYPE=image/png:https://museums.kenosha.org/wp-content/uploads/2023/09/Spark_640×360.png
END:VEVENT
BEGIN:VEVENT
DTSTART;TZID=America/Chicago:20260320T140000
DTEND;TZID=America/Chicago:20260320T160000
DTSTAMP:20260424T170053
CREATED:20260210T224911Z
LAST-MODIFIED:20260210T224911Z
UID:10002699-1774015200-1774022400@museums.kenosha.org
SUMMARY:Artsy Afternoon
DESCRIPTION:Intended for ages 6-10. There is no cost to participate\, but registration is strongly encouraged to ensure enough supplies for all participants. Children must be accompanied by an adult throughout the duration of the program. \nMarch 20: Tiny Treasure Boxes |  Register Here \nApril 24: Felt and Button Flowers |  Register Here \nMay 15: Air Dry Clay | Register Here
URL:https://museums.kenosha.org/events/artsy-afternoon-2/2026-03-20
LOCATION:Kenosha Public Museum\, 5500 1st Ave\, Kenosha\, WI\, 53140\, United States
CATEGORIES:Family,Kenosha Public Museum
ATTACH;FMTTYPE=image/png:https://museums.kenosha.org/wp-content/uploads/2023/02/KPM_ArtsyAfternoon_640x360.png
END:VEVENT
BEGIN:VEVENT
DTSTART;TZID=America/Chicago:20260321T100000
DTEND;TZID=America/Chicago:20260321T150000
DTSTAMP:20260424T170053
CREATED:20251216T154017Z
LAST-MODIFIED:20260320T162414Z
UID:10002264-1774087200-1774105200@museums.kenosha.org
SUMMARY:Women in STEM - Postponed
DESCRIPTION:Saturday\, March 21   \nThis event has been postponed to a later date
URL:https://museums.kenosha.org/events/women-in-stem-2
LOCATION:Kenosha Public Museum\, 5500 1st Ave\, Kenosha\, WI\, 53140\, United States
CATEGORIES:Family,Kenosha Public Museum
ATTACH;FMTTYPE=image/png:https://museums.kenosha.org/wp-content/uploads/2025/12/WomenInSTEM_FBE-1.png
END:VEVENT
BEGIN:VEVENT
DTSTART;TZID=America/Chicago:20260321T103000
DTEND;TZID=America/Chicago:20260321T123000
DTSTAMP:20260424T170053
CREATED:20251216T161522Z
LAST-MODIFIED:20251216T161522Z
UID:10002270-1774089000-1774096200@museums.kenosha.org
SUMMARY:Workshop: Golden Wire Wrapped Jewelry Set
DESCRIPTION:Saturday\, March 21  |  10:30am – 12:30pm  |  Instructor: Tiffany Knowpow\, MFA  |  $44 ($55 for non-members)  |  Register Here \nGive your jewelry-making skills a glow up as you learn how to wrap and create shapes with golden wire and colorful beads. You will learn how to make a wire-wrapped leaf pendant necklace as well as a pair of earrings in this 1.5-hour class. All supplies are included\, no experience is necessary.
URL:https://museums.kenosha.org/events/workshop-golden-wire-wrapped-jewelry-set
LOCATION:Kenosha Public Museum\, 5500 1st Ave\, Kenosha\, WI\, 53140\, United States
CATEGORIES:Adult,Kenosha Public Museum
ATTACH;FMTTYPE=image/png:https://museums.kenosha.org/wp-content/uploads/2025/12/KPM_WS_GoldWrappedJewelry_640x360px.png
END:VEVENT
END:VCALENDAR