BEGIN:VCALENDAR
VERSION:2.0
PRODID:-//Kenosha Public Museum - ECPv6.15.20//NONSGML v1.0//EN
CALSCALE:GREGORIAN
METHOD:PUBLISH
X-WR-CALNAME:Kenosha Public Museum
X-ORIGINAL-URL:https://museums.kenosha.org
X-WR-CALDESC:Events for Kenosha Public Museum
REFRESH-INTERVAL;VALUE=DURATION:PT1H
X-Robots-Tag:noindex
X-PUBLISHED-TTL:PT1H
BEGIN:VTIMEZONE
TZID:America/Chicago
BEGIN:DAYLIGHT
TZOFFSETFROM:-0600
TZOFFSETTO:-0500
TZNAME:CDT
DTSTART:20250309T080000
END:DAYLIGHT
BEGIN:STANDARD
TZOFFSETFROM:-0500
TZOFFSETTO:-0600
TZNAME:CST
DTSTART:20251102T070000
END:STANDARD
BEGIN:DAYLIGHT
TZOFFSETFROM:-0600
TZOFFSETTO:-0500
TZNAME:CDT
DTSTART:20260308T080000
END:DAYLIGHT
BEGIN:STANDARD
TZOFFSETFROM:-0500
TZOFFSETTO:-0600
TZNAME:CST
DTSTART:20261101T070000
END:STANDARD
BEGIN:DAYLIGHT
TZOFFSETFROM:-0600
TZOFFSETTO:-0500
TZNAME:CDT
DTSTART:20270314T080000
END:DAYLIGHT
BEGIN:STANDARD
TZOFFSETFROM:-0500
TZOFFSETTO:-0600
TZNAME:CST
DTSTART:20271107T070000
END:STANDARD
END:VTIMEZONE
BEGIN:VEVENT
DTSTART;TZID=America/Chicago:20260405T100000
DTEND;TZID=America/Chicago:20260405T170000
DTSTAMP:20260424T100806
CREATED:20260330T172123Z
LAST-MODIFIED:20260330T172123Z
UID:10002715-1775383200-1775408400@museums.kenosha.org
SUMMARY:Museums Closed Easter Sunday
DESCRIPTION:The Kenosha Public Museum\, Civil War Museum\, and Dinosaur Discovery Museum will be closed on Sunday\, April 5 in observance of Easter.
URL:https://museums.kenosha.org/events/museums-closed-easter-sunday
LOCATION:Kenosha Public Museum\, 5500 1st Ave\, Kenosha\, WI\, 53140\, United States
ATTACH;FMTTYPE=image/png:https://museums.kenosha.org/wp-content/uploads/2026/03/MuseumsClosed_Easter-640-x-360-px-1.png
END:VEVENT
BEGIN:VEVENT
DTSTART;TZID=America/Chicago:20260408T093000
DTEND;TZID=America/Chicago:20260408T100000
DTSTAMP:20260424T100806
CREATED:20250825T181549Z
LAST-MODIFIED:20250825T181549Z
UID:10002189-1775640600-1775642400@museums.kenosha.org
SUMMARY:Museum Munchkins
DESCRIPTION:Every Wednesday Morning  |  9:30am – 10:00am  |  Free \nJoin Mr. Nick for songs\, stories\, and activities designed to get you and your preschooler excited about natural science and the world around us. Every week we learn together about a new animal\, so there’s ALWAYS something new to discover\, for kids and adults alike! \nNo registration is required. Intended for ages 0-3. \nMuseum Munchkins will not take place Wednesday\, December 24 or Wednesday\, December 31. 
URL:https://museums.kenosha.org/events/museum-munchkins-7/2026-04-08
LOCATION:Kenosha Public Museum\, 5500 1st Ave\, Kenosha\, WI\, 53140\, United States
CATEGORIES:Family,Kenosha Public Museum
ATTACH;FMTTYPE=image/png:https://museums.kenosha.org/wp-content/uploads/2023/02/KPM_Munchkins_640x360.png
END:VEVENT
BEGIN:VEVENT
DTSTART;TZID=America/Chicago:20260410T120000
DTEND;TZID=America/Chicago:20260410T130000
DTSTAMP:20260424T100806
CREATED:20260211T160641Z
LAST-MODIFIED:20260211T160641Z
UID:10002705-1775822400-1775826000@museums.kenosha.org
SUMMARY:Second Friday Lecture: How the Great Lakes Caused the Civil War
DESCRIPTION:The Civil War was won\, and the American Republic was saved because of the remarkable contributions of men\, supplies\, and leaders provided by the states of the Great Lakes region. These are the states that created the Republican Party. Something more than slavery was behind their deep resentment of the Confederacy. Join us for a program detailing how navigation issues exasperated sectional relations in the years before the war and how Union victory transformed our region. \nTheodore Karamanski (Loyola University Chicago\, Ph.D.\, 1979; B.A.\, 1975) is a Professor Emeritus of History at Loyola University Chicago where he has taught courses in American Indian history\, the Civil War\, and public history. Karamanski has been a leading national voice in the promotion of American and public history for more than three decades.  He was the founder and later director of Loyola’s Public History Program as well as a prolific author in the fields of American Indian\, Great Lakes\, Civil War\, and nineteenth-century American history.
URL:https://museums.kenosha.org/events/second-friday-lecture-how-the-great-lakes-caused-the-civil-war
LOCATION:Civil War Museum\, 5400 1st Ave\, Kenosha\, WI\, 53140\, United States
CATEGORIES:Adult,Civil War Museum
ATTACH;FMTTYPE=image/png:https://museums.kenosha.org/wp-content/uploads/2026/02/LakeMichigan_640x360px.png
END:VEVENT
BEGIN:VEVENT
DTSTART;TZID=America/Chicago:20260411T103000
DTEND;TZID=America/Chicago:20260411T123000
DTSTAMP:20260424T100806
CREATED:20260210T223248Z
LAST-MODIFIED:20260210T223248Z
UID:10002692-1775903400-1775910600@museums.kenosha.org
SUMMARY:Spring Acrylic Painting: Beginners and Beyond I
DESCRIPTION:Saturdays\, April 11 – May 9 (no class April 25)  |  10:30am – 12:30pm  |  Instructor: Kathy Laybourn  |  $80 ($100 for non-members)  |  Register Here \nBe enchanted with texture and color in acrylic paint! Students will learn how to construct a painting by determining basic composition\, blocking in the underlying dark\, middle\, and light values\, and layering color. Students will work from an image of an impressionist painting. This class is perfect for those who are beginners or have previous experience and want to expand their skills in acrylics. A supply list will be sent to students when they sign up.
URL:https://museums.kenosha.org/events/spring-acrylic-painting-beginners-and-beyond-i
LOCATION:Kenosha Public Museum\, 5500 1st Ave\, Kenosha\, WI\, 53140\, United States
CATEGORIES:Adult,Kenosha Public Museum
ATTACH;FMTTYPE=image/png:https://museums.kenosha.org/wp-content/uploads/2023/12/KPM_WS_Acrylic_640x360.png
END:VEVENT
END:VCALENDAR