BEGIN:VCALENDAR
VERSION:2.0
PRODID:-//Kenosha Public Museum - ECPv6.15.20//NONSGML v1.0//EN
CALSCALE:GREGORIAN
METHOD:PUBLISH
X-ORIGINAL-URL:https://museums.kenosha.org
X-WR-CALDESC:Events for Kenosha Public Museum
REFRESH-INTERVAL;VALUE=DURATION:PT1H
X-Robots-Tag:noindex
X-PUBLISHED-TTL:PT1H
BEGIN:VTIMEZONE
TZID:America/Chicago
BEGIN:DAYLIGHT
TZOFFSETFROM:-0600
TZOFFSETTO:-0500
TZNAME:CDT
DTSTART:20250309T080000
END:DAYLIGHT
BEGIN:STANDARD
TZOFFSETFROM:-0500
TZOFFSETTO:-0600
TZNAME:CST
DTSTART:20251102T070000
END:STANDARD
BEGIN:DAYLIGHT
TZOFFSETFROM:-0600
TZOFFSETTO:-0500
TZNAME:CDT
DTSTART:20260308T080000
END:DAYLIGHT
BEGIN:STANDARD
TZOFFSETFROM:-0500
TZOFFSETTO:-0600
TZNAME:CST
DTSTART:20261101T070000
END:STANDARD
BEGIN:DAYLIGHT
TZOFFSETFROM:-0600
TZOFFSETTO:-0500
TZNAME:CDT
DTSTART:20270314T080000
END:DAYLIGHT
BEGIN:STANDARD
TZOFFSETFROM:-0500
TZOFFSETTO:-0600
TZNAME:CST
DTSTART:20271107T070000
END:STANDARD
END:VTIMEZONE
BEGIN:VEVENT
DTSTART;TZID=America/Chicago:20260422T093000
DTEND;TZID=America/Chicago:20260422T100000
DTSTAMP:20260424T081334
CREATED:20250825T181549Z
LAST-MODIFIED:20250825T181549Z
UID:10002191-1776850200-1776852000@museums.kenosha.org
SUMMARY:Museum Munchkins
DESCRIPTION:Every Wednesday Morning  |  9:30am – 10:00am  |  Free \nJoin Mr. Nick for songs\, stories\, and activities designed to get you and your preschooler excited about natural science and the world around us. Every week we learn together about a new animal\, so there’s ALWAYS something new to discover\, for kids and adults alike! \nNo registration is required. Intended for ages 0-3. \nMuseum Munchkins will not take place Wednesday\, December 24 or Wednesday\, December 31. 
URL:https://museums.kenosha.org/events/museum-munchkins-7/2026-04-22
LOCATION:Kenosha Public Museum\, 5500 1st Ave\, Kenosha\, WI\, 53140\, United States
CATEGORIES:Family,Kenosha Public Museum
ATTACH;FMTTYPE=image/png:https://museums.kenosha.org/wp-content/uploads/2023/02/KPM_Munchkins_640x360.png
END:VEVENT
BEGIN:VEVENT
DTSTART;TZID=America/Chicago:20260423T180000
DTEND;TZID=America/Chicago:20260423T200000
DTSTAMP:20260424T081334
CREATED:20260210T223908Z
LAST-MODIFIED:20260210T223908Z
UID:10002698-1776967200-1776974400@museums.kenosha.org
SUMMARY:Wire and Bead Wrapped Hoop Earrings
DESCRIPTION:Thursday\, April 23  |  6:00pm – 8:00pm  |  Instructor: Tiffany Knopow\, MFA  |  $52 ($65 for non-members)  |  Register Here \nLearn a few easy jewelry-making techniques and construct at least three sets of earrings. Participants can choose to use either type of bead in the photograph and experiment with many different wrapping techniques. All supplies are included\, no experience necessary.
URL:https://museums.kenosha.org/events/wire-and-bead-wrapped-hoop-earrings
LOCATION:Kenosha Public Museum\, 5500 1st Ave\, Kenosha\, WI\, 53140\, United States
CATEGORIES:Adult,Kenosha Public Museum
ATTACH;FMTTYPE=image/png:https://museums.kenosha.org/wp-content/uploads/2026/02/KPM_WS_WireHoop_640x360px.png
END:VEVENT
BEGIN:VEVENT
DTSTART;TZID=America/Chicago:20260424T140000
DTEND;TZID=America/Chicago:20260424T160000
DTSTAMP:20260424T081334
CREATED:20260210T224911Z
LAST-MODIFIED:20260210T224911Z
UID:10002700-1777039200-1777046400@museums.kenosha.org
SUMMARY:Artsy Afternoon
DESCRIPTION:Intended for ages 6-10. There is no cost to participate\, but registration is strongly encouraged to ensure enough supplies for all participants. Children must be accompanied by an adult throughout the duration of the program. \nMarch 20: Tiny Treasure Boxes |  Register Here \nApril 24: Felt and Button Flowers |  Register Here \nMay 15: Air Dry Clay | Register Here
URL:https://museums.kenosha.org/events/artsy-afternoon-2/2026-04-24
LOCATION:Kenosha Public Museum\, 5500 1st Ave\, Kenosha\, WI\, 53140\, United States
CATEGORIES:Family,Kenosha Public Museum
ATTACH;FMTTYPE=image/png:https://museums.kenosha.org/wp-content/uploads/2023/02/KPM_ArtsyAfternoon_640x360.png
END:VEVENT
END:VCALENDAR